BEGIN:VCALENDAR
VERSION:2.0
PRODID:-//NADI Pekan Asajaya - ECPv6.15.13.1//NONSGML v1.0//EN
CALSCALE:GREGORIAN
METHOD:PUBLISH
X-WR-CALNAME:NADI Pekan Asajaya
X-ORIGINAL-URL:https://pekanasajaya.nadi.my
X-WR-CALDESC:Events for NADI Pekan Asajaya
REFRESH-INTERVAL;VALUE=DURATION:PT1H
X-Robots-Tag:noindex
X-PUBLISHED-TTL:PT1H
BEGIN:VTIMEZONE
TZID:UTC
BEGIN:STANDARD
TZOFFSETFROM:+0000
TZOFFSETTO:+0000
TZNAME:UTC
DTSTART:20230101T000000
END:STANDARD
END:VTIMEZONE
BEGIN:VEVENT
DTSTART;TZID=UTC:20240203T080000
DTEND;TZID=UTC:20240203T170000
DTSTAMP:20260426T085644
CREATED:20240202T163830Z
LAST-MODIFIED:20240202T163830Z
UID:2223-1706947200-1706979600@pekanasajaya.nadi.my
SUMMARY:ASAS CANVA
DESCRIPTION:
URL:https://pekanasajaya.nadi.my/event/asas-canva-3/
LOCATION:Bilik Latihan PEDi Pekan Asajaya\, Bilik Latihan PEDi Pekan Asajaya
CATEGORIES:DEFAULT
END:VEVENT
BEGIN:VEVENT
DTSTART;TZID=UTC:20240203T080000
DTEND;TZID=UTC:20240203T170000
DTSTAMP:20260426T085644
CREATED:20240202T163830Z
LAST-MODIFIED:20240202T163830Z
UID:2543-1706947200-1706979600@pekanasajaya.nadi.my
SUMMARY:ASAS CANVA
DESCRIPTION:
URL:https://pekanasajaya.nadi.my/event/asas-canva-7/
LOCATION:Bilik Latihan PEDi Pekan Asajaya\, Bilik Latihan PEDi Pekan Asajaya
CATEGORIES:DEFAULT
END:VEVENT
BEGIN:VEVENT
DTSTART;TZID=UTC:20240204T080000
DTEND;TZID=UTC:20240204T170000
DTSTAMP:20260426T085644
CREATED:20240202T163854Z
LAST-MODIFIED:20240202T163854Z
UID:2224-1707033600-1707066000@pekanasajaya.nadi.my
SUMMARY:ADVOKASI KLIK DENGAN BIJAK DAN KUIZ KAHOOT!
DESCRIPTION:
URL:https://pekanasajaya.nadi.my/event/advokasi-klik-dengan-bijak-dan-kuiz-kahoot-2/
LOCATION:Bilik Latihan PEDi Pekan Asajaya\, Bilik Latihan PEDi Pekan Asajaya
CATEGORIES:DEFAULT
END:VEVENT
BEGIN:VEVENT
DTSTART;TZID=UTC:20240204T080000
DTEND;TZID=UTC:20240204T170000
DTSTAMP:20260426T085644
CREATED:20240202T163854Z
LAST-MODIFIED:20240202T163854Z
UID:2544-1707033600-1707066000@pekanasajaya.nadi.my
SUMMARY:ADVOKASI KLIK DENGAN BIJAK DAN KUIZ KAHOOT!
DESCRIPTION:
URL:https://pekanasajaya.nadi.my/event/advokasi-klik-dengan-bijak-dan-kuiz-kahoot-4/
LOCATION:Bilik Latihan PEDi Pekan Asajaya\, Bilik Latihan PEDi Pekan Asajaya
CATEGORIES:DEFAULT
END:VEVENT
BEGIN:VEVENT
DTSTART;TZID=UTC:20240206T080000
DTEND;TZID=UTC:20240206T170000
DTSTAMP:20260426T085644
CREATED:20240202T163920Z
LAST-MODIFIED:20240202T163920Z
UID:2225-1707206400-1707238800@pekanasajaya.nadi.my
SUMMARY:E-PEMBELAJARAN
DESCRIPTION:
URL:https://pekanasajaya.nadi.my/event/e-pembelajaran-7/
LOCATION:Bilik Latihan PEDi Pekan Asajaya\, Bilik Latihan PEDi Pekan Asajaya
CATEGORIES:DEFAULT
END:VEVENT
BEGIN:VEVENT
DTSTART;TZID=UTC:20240206T080000
DTEND;TZID=UTC:20240206T170000
DTSTAMP:20260426T085644
CREATED:20240202T163920Z
LAST-MODIFIED:20240202T163920Z
UID:2545-1707206400-1707238800@pekanasajaya.nadi.my
SUMMARY:E-PEMBELAJARAN
DESCRIPTION:
URL:https://pekanasajaya.nadi.my/event/e-pembelajaran-17/
LOCATION:Bilik Latihan PEDi Pekan Asajaya\, Bilik Latihan PEDi Pekan Asajaya
CATEGORIES:DEFAULT
END:VEVENT
BEGIN:VEVENT
DTSTART;TZID=UTC:20240207T080000
DTEND;TZID=UTC:20240207T170000
DTSTAMP:20260426T085644
CREATED:20240202T163944Z
LAST-MODIFIED:20240202T163944Z
UID:2226-1707292800-1707325200@pekanasajaya.nadi.my
SUMMARY:AKTIVITI STEM & IOT
DESCRIPTION:
URL:https://pekanasajaya.nadi.my/event/aktiviti-stem-iot-9/
LOCATION:Bilik Latihan PEDi Pekan Asajaya\, Bilik Latihan PEDi Pekan Asajaya
CATEGORIES:DEFAULT
END:VEVENT
BEGIN:VEVENT
DTSTART;TZID=UTC:20240207T080000
DTEND;TZID=UTC:20240207T170000
DTSTAMP:20260426T085644
CREATED:20240202T163944Z
LAST-MODIFIED:20240202T163944Z
UID:2546-1707292800-1707325200@pekanasajaya.nadi.my
SUMMARY:AKTIVITI STEM & IOT
DESCRIPTION:
URL:https://pekanasajaya.nadi.my/event/aktiviti-stem-iot-18/
LOCATION:Bilik Latihan PEDi Pekan Asajaya\, Bilik Latihan PEDi Pekan Asajaya
CATEGORIES:DEFAULT
END:VEVENT
BEGIN:VEVENT
DTSTART;TZID=UTC:20240208T080000
DTEND;TZID=UTC:20240208T170000
DTSTAMP:20260426T085644
CREATED:20240202T164119Z
LAST-MODIFIED:20240202T164119Z
UID:2547-1707379200-1707411600@pekanasajaya.nadi.my
SUMMARY:ASAS MICROSOFT OFFICE
DESCRIPTION:
URL:https://pekanasajaya.nadi.my/event/asas-microsoft-office-44/
LOCATION:Bilik Latihan PEDi Pekan Asajaya\, Bilik Latihan PEDi Pekan Asajaya
CATEGORIES:DEFAULT
END:VEVENT
BEGIN:VEVENT
DTSTART;TZID=UTC:20240208T080000
DTEND;TZID=UTC:20240208T170000
DTSTAMP:20260426T085644
CREATED:20240202T164119Z
LAST-MODIFIED:20240202T164119Z
UID:2227-1707379200-1707411600@pekanasajaya.nadi.my
SUMMARY:ASAS MICROSOFT OFFICE
DESCRIPTION:
URL:https://pekanasajaya.nadi.my/event/asas-microsoft-office-20/
LOCATION:Bilik Latihan PEDi Pekan Asajaya\, Bilik Latihan PEDi Pekan Asajaya
CATEGORIES:DEFAULT
END:VEVENT
BEGIN:VEVENT
DTSTART;TZID=UTC:20240209T080000
DTEND;TZID=UTC:20240209T170000
DTSTAMP:20260426T085644
CREATED:20240202T164140Z
LAST-MODIFIED:20240202T164140Z
UID:2228-1707465600-1707498000@pekanasajaya.nadi.my
SUMMARY:ASAS KEUSAHAWANAN
DESCRIPTION:
URL:https://pekanasajaya.nadi.my/event/asas-keusahawanan-28/
LOCATION:Bilik Latihan PEDi Pekan Asajaya\, Bilik Latihan PEDi Pekan Asajaya
CATEGORIES:DEFAULT
END:VEVENT
BEGIN:VEVENT
DTSTART;TZID=UTC:20240209T080000
DTEND;TZID=UTC:20240209T170000
DTSTAMP:20260426T085644
CREATED:20240202T164140Z
LAST-MODIFIED:20240202T164140Z
UID:2548-1707465600-1707498000@pekanasajaya.nadi.my
SUMMARY:ASAS KEUSAHAWANAN
DESCRIPTION:
URL:https://pekanasajaya.nadi.my/event/asas-keusahawanan-57/
LOCATION:Bilik Latihan PEDi Pekan Asajaya\, Bilik Latihan PEDi Pekan Asajaya
CATEGORIES:DEFAULT
END:VEVENT
BEGIN:VEVENT
DTSTART;TZID=UTC:20240212T080000
DTEND;TZID=UTC:20240212T170000
DTSTAMP:20260426T085644
CREATED:20240202T164531Z
LAST-MODIFIED:20240202T164531Z
UID:2229-1707724800-1707757200@pekanasajaya.nadi.my
SUMMARY:ASAS FOTOGRAFI
DESCRIPTION:
URL:https://pekanasajaya.nadi.my/event/asas-fotografi-2/
LOCATION:Bilik Latihan PEDi Pekan Asajaya\, Bilik Latihan PEDi Pekan Asajaya
CATEGORIES:DEFAULT
END:VEVENT
BEGIN:VEVENT
DTSTART;TZID=UTC:20240212T080000
DTEND;TZID=UTC:20240212T170000
DTSTAMP:20260426T085644
CREATED:20240202T164531Z
LAST-MODIFIED:20240202T164531Z
UID:2549-1707724800-1707757200@pekanasajaya.nadi.my
SUMMARY:ASAS FOTOGRAFI
DESCRIPTION:
URL:https://pekanasajaya.nadi.my/event/asas-fotografi-5/
LOCATION:Bilik Latihan PEDi Pekan Asajaya\, Bilik Latihan PEDi Pekan Asajaya
CATEGORIES:DEFAULT
END:VEVENT
BEGIN:VEVENT
DTSTART;TZID=UTC:20240216T080000
DTEND;TZID=UTC:20240216T170000
DTSTAMP:20260426T085644
CREATED:20240202T164644Z
LAST-MODIFIED:20240202T164644Z
UID:2231-1708070400-1708102800@pekanasajaya.nadi.my
SUMMARY:ASAS MICROSOFT OFFICE
DESCRIPTION:
URL:https://pekanasajaya.nadi.my/event/asas-microsoft-office-21/
LOCATION:Bilik Latihan PEDi Pekan Asajaya\, Bilik Latihan PEDi Pekan Asajaya
CATEGORIES:DEFAULT
END:VEVENT
BEGIN:VEVENT
DTSTART;TZID=UTC:20240216T080000
DTEND;TZID=UTC:20240216T170000
DTSTAMP:20260426T085644
CREATED:20240202T164644Z
LAST-MODIFIED:20240202T164644Z
UID:2551-1708070400-1708102800@pekanasajaya.nadi.my
SUMMARY:ASAS MICROSOFT OFFICE
DESCRIPTION:
URL:https://pekanasajaya.nadi.my/event/asas-microsoft-office-45/
LOCATION:Bilik Latihan PEDi Pekan Asajaya\, Bilik Latihan PEDi Pekan Asajaya
CATEGORIES:DEFAULT
END:VEVENT
BEGIN:VEVENT
DTSTART;TZID=UTC:20240217T080000
DTEND;TZID=UTC:20240217T170000
DTSTAMP:20260426T085644
CREATED:20240202T164706Z
LAST-MODIFIED:20240202T164706Z
UID:2552-1708156800-1708189200@pekanasajaya.nadi.my
SUMMARY:ASAS MICROSOFT OFFICE
DESCRIPTION:
URL:https://pekanasajaya.nadi.my/event/asas-microsoft-office-46/
LOCATION:Bilik Latihan PEDi Pekan Asajaya\, Bilik Latihan PEDi Pekan Asajaya
CATEGORIES:DEFAULT
END:VEVENT
BEGIN:VEVENT
DTSTART;TZID=UTC:20240217T080000
DTEND;TZID=UTC:20240217T170000
DTSTAMP:20260426T085644
CREATED:20240202T164706Z
LAST-MODIFIED:20240202T164706Z
UID:2232-1708156800-1708189200@pekanasajaya.nadi.my
SUMMARY:ASAS MICROSOFT OFFICE
DESCRIPTION:
URL:https://pekanasajaya.nadi.my/event/asas-microsoft-office-22/
LOCATION:Bilik Latihan PEDi Pekan Asajaya\, Bilik Latihan PEDi Pekan Asajaya
CATEGORIES:DEFAULT
END:VEVENT
BEGIN:VEVENT
DTSTART;TZID=UTC:20240218T080000
DTEND;TZID=UTC:20240218T170000
DTSTAMP:20260426T085644
CREATED:20240202T164720Z
LAST-MODIFIED:20240202T164720Z
UID:2553-1708243200-1708275600@pekanasajaya.nadi.my
SUMMARY:ASAS CANVA
DESCRIPTION:
URL:https://pekanasajaya.nadi.my/event/asas-canva-8/
LOCATION:Bilik Latihan PEDi Pekan Asajaya\, Bilik Latihan PEDi Pekan Asajaya
CATEGORIES:DEFAULT
END:VEVENT
BEGIN:VEVENT
DTSTART;TZID=UTC:20240218T080000
DTEND;TZID=UTC:20240218T170000
DTSTAMP:20260426T085644
CREATED:20240202T164720Z
LAST-MODIFIED:20240202T164720Z
UID:2233-1708243200-1708275600@pekanasajaya.nadi.my
SUMMARY:ASAS CANVA
DESCRIPTION:
URL:https://pekanasajaya.nadi.my/event/asas-canva-4/
LOCATION:Bilik Latihan PEDi Pekan Asajaya\, Bilik Latihan PEDi Pekan Asajaya
CATEGORIES:DEFAULT
END:VEVENT
BEGIN:VEVENT
DTSTART;TZID=UTC:20240219T080000
DTEND;TZID=UTC:20240219T170000
DTSTAMP:20260426T085644
CREATED:20240202T164556Z
LAST-MODIFIED:20240202T164556Z
UID:2230-1708329600-1708362000@pekanasajaya.nadi.my
SUMMARY:E-PEMBELAJARAN
DESCRIPTION:
URL:https://pekanasajaya.nadi.my/event/e-pembelajaran-8/
LOCATION:Bilik Latihan PEDi Pekan Asajaya\, Bilik Latihan PEDi Pekan Asajaya
CATEGORIES:DEFAULT
END:VEVENT
BEGIN:VEVENT
DTSTART;TZID=UTC:20240219T080000
DTEND;TZID=UTC:20240219T170000
DTSTAMP:20260426T085644
CREATED:20240202T164556Z
LAST-MODIFIED:20240202T164556Z
UID:2550-1708329600-1708362000@pekanasajaya.nadi.my
SUMMARY:E-PEMBELAJARAN
DESCRIPTION:
URL:https://pekanasajaya.nadi.my/event/e-pembelajaran-18/
LOCATION:Bilik Latihan PEDi Pekan Asajaya\, Bilik Latihan PEDi Pekan Asajaya
CATEGORIES:DEFAULT
END:VEVENT
BEGIN:VEVENT
DTSTART;TZID=UTC:20240220T080000
DTEND;TZID=UTC:20240220T170000
DTSTAMP:20260426T085644
CREATED:20240202T164738Z
LAST-MODIFIED:20240202T164738Z
UID:2234-1708416000-1708448400@pekanasajaya.nadi.my
SUMMARY:ASAS KEUSAHAWANAN
DESCRIPTION:
URL:https://pekanasajaya.nadi.my/event/asas-keusahawanan-29/
LOCATION:Bilik Latihan PEDi Pekan Asajaya\, Bilik Latihan PEDi Pekan Asajaya
CATEGORIES:DEFAULT
END:VEVENT
BEGIN:VEVENT
DTSTART;TZID=UTC:20240220T080000
DTEND;TZID=UTC:20240220T170000
DTSTAMP:20260426T085644
CREATED:20240202T164738Z
LAST-MODIFIED:20240202T164738Z
UID:2554-1708416000-1708448400@pekanasajaya.nadi.my
SUMMARY:ASAS KEUSAHAWANAN
DESCRIPTION:
URL:https://pekanasajaya.nadi.my/event/asas-keusahawanan-58/
LOCATION:Bilik Latihan PEDi Pekan Asajaya\, Bilik Latihan PEDi Pekan Asajaya
CATEGORIES:DEFAULT
END:VEVENT
END:VCALENDAR