BEGIN:VCALENDAR
VERSION:2.0
PRODID:-//NADI Pekan Asajaya - ECPv6.15.13.1//NONSGML v1.0//EN
CALSCALE:GREGORIAN
METHOD:PUBLISH
X-WR-CALNAME:NADI Pekan Asajaya
X-ORIGINAL-URL:https://pekanasajaya.nadi.my
X-WR-CALDESC:Events for NADI Pekan Asajaya
REFRESH-INTERVAL;VALUE=DURATION:PT1H
X-Robots-Tag:noindex
X-PUBLISHED-TTL:PT1H
BEGIN:VTIMEZONE
TZID:UTC
BEGIN:STANDARD
TZOFFSETFROM:+0000
TZOFFSETTO:+0000
TZNAME:UTC
DTSTART:20230101T000000
END:STANDARD
END:VTIMEZONE
BEGIN:VEVENT
DTSTART;TZID=UTC:20240302T080000
DTEND;TZID=UTC:20240302T170000
DTSTAMP:20260425T202516
CREATED:20240301T171138Z
LAST-MODIFIED:20240301T171138Z
UID:2235-1709366400-1709398800@pekanasajaya.nadi.my
SUMMARY:E-PEMBELAJARAN
DESCRIPTION:
URL:https://pekanasajaya.nadi.my/event/e-pembelajaran-9/
LOCATION:Bilik Latihan PEDi Pekan Asajaya\, Bilik Latihan PEDi Pekan Asajaya
CATEGORIES:DEFAULT
END:VEVENT
BEGIN:VEVENT
DTSTART;TZID=UTC:20240302T080000
DTEND;TZID=UTC:20240302T170000
DTSTAMP:20260425T202516
CREATED:20240301T171138Z
LAST-MODIFIED:20240301T171138Z
UID:2555-1709366400-1709398800@pekanasajaya.nadi.my
SUMMARY:E-PEMBELAJARAN
DESCRIPTION:
URL:https://pekanasajaya.nadi.my/event/e-pembelajaran-19/
LOCATION:Bilik Latihan PEDi Pekan Asajaya\, Bilik Latihan PEDi Pekan Asajaya
CATEGORIES:DEFAULT
END:VEVENT
BEGIN:VEVENT
DTSTART;TZID=UTC:20240303T080000
DTEND;TZID=UTC:20240303T170000
DTSTAMP:20260425T202516
CREATED:20240301T171159Z
LAST-MODIFIED:20240301T171159Z
UID:2236-1709452800-1709485200@pekanasajaya.nadi.my
SUMMARY:ASAS MICROSOFT OFFICE
DESCRIPTION:
URL:https://pekanasajaya.nadi.my/event/asas-microsoft-office-23/
LOCATION:Bilik Latihan PEDi Pekan Asajaya\, Bilik Latihan PEDi Pekan Asajaya
CATEGORIES:DEFAULT
END:VEVENT
BEGIN:VEVENT
DTSTART;TZID=UTC:20240303T080000
DTEND;TZID=UTC:20240303T170000
DTSTAMP:20260425T202516
CREATED:20240301T171159Z
LAST-MODIFIED:20240301T171159Z
UID:2556-1709452800-1709485200@pekanasajaya.nadi.my
SUMMARY:ASAS MICROSOFT OFFICE
DESCRIPTION:
URL:https://pekanasajaya.nadi.my/event/asas-microsoft-office-47/
LOCATION:Bilik Latihan PEDi Pekan Asajaya\, Bilik Latihan PEDi Pekan Asajaya
CATEGORIES:DEFAULT
END:VEVENT
BEGIN:VEVENT
DTSTART;TZID=UTC:20240305T080000
DTEND;TZID=UTC:20240305T170000
DTSTAMP:20260425T202516
CREATED:20240301T171536Z
LAST-MODIFIED:20240301T171536Z
UID:2237-1709625600-1709658000@pekanasajaya.nadi.my
SUMMARY:ASAS MICROSOFT OFFICE
DESCRIPTION:
URL:https://pekanasajaya.nadi.my/event/asas-microsoft-office-24/
LOCATION:Bilik Latihan PEDi Pekan Asajaya\, Bilik Latihan PEDi Pekan Asajaya
CATEGORIES:DEFAULT
END:VEVENT
BEGIN:VEVENT
DTSTART;TZID=UTC:20240305T080000
DTEND;TZID=UTC:20240305T170000
DTSTAMP:20260425T202516
CREATED:20240301T171536Z
LAST-MODIFIED:20240301T171536Z
UID:2557-1709625600-1709658000@pekanasajaya.nadi.my
SUMMARY:ASAS MICROSOFT OFFICE
DESCRIPTION:
URL:https://pekanasajaya.nadi.my/event/asas-microsoft-office-48/
LOCATION:Bilik Latihan PEDi Pekan Asajaya\, Bilik Latihan PEDi Pekan Asajaya
CATEGORIES:DEFAULT
END:VEVENT
BEGIN:VEVENT
DTSTART;TZID=UTC:20240306T080000
DTEND;TZID=UTC:20240306T170000
DTSTAMP:20260425T202516
CREATED:20240301T171600Z
LAST-MODIFIED:20240301T171600Z
UID:2238-1709712000-1709744400@pekanasajaya.nadi.my
SUMMARY:E-PEMBELAJARAN
DESCRIPTION:
URL:https://pekanasajaya.nadi.my/event/e-pembelajaran-10/
LOCATION:Bilik Latihan PEDi Pekan Asajaya\, Bilik Latihan PEDi Pekan Asajaya
CATEGORIES:DEFAULT
END:VEVENT
BEGIN:VEVENT
DTSTART;TZID=UTC:20240306T080000
DTEND;TZID=UTC:20240306T170000
DTSTAMP:20260425T202516
CREATED:20240301T171600Z
LAST-MODIFIED:20240301T171600Z
UID:2558-1709712000-1709744400@pekanasajaya.nadi.my
SUMMARY:E-PEMBELAJARAN
DESCRIPTION:
URL:https://pekanasajaya.nadi.my/event/e-pembelajaran-20/
LOCATION:Bilik Latihan PEDi Pekan Asajaya\, Bilik Latihan PEDi Pekan Asajaya
CATEGORIES:DEFAULT
END:VEVENT
BEGIN:VEVENT
DTSTART;TZID=UTC:20240307T080000
DTEND;TZID=UTC:20240307T170000
DTSTAMP:20260425T202516
CREATED:20240301T171619Z
LAST-MODIFIED:20240301T171619Z
UID:2239-1709798400-1709830800@pekanasajaya.nadi.my
SUMMARY:AKTIVITI STEM
DESCRIPTION:
URL:https://pekanasajaya.nadi.my/event/aktiviti-stem/
LOCATION:Bilik Latihan PEDi Pekan Asajaya\, Bilik Latihan PEDi Pekan Asajaya
CATEGORIES:DEFAULT
END:VEVENT
BEGIN:VEVENT
DTSTART;TZID=UTC:20240307T080000
DTEND;TZID=UTC:20240307T170000
DTSTAMP:20260425T202516
CREATED:20240301T171619Z
LAST-MODIFIED:20240301T171619Z
UID:2559-1709798400-1709830800@pekanasajaya.nadi.my
SUMMARY:AKTIVITI STEM
DESCRIPTION:
URL:https://pekanasajaya.nadi.my/event/aktiviti-stem-2/
LOCATION:Bilik Latihan PEDi Pekan Asajaya\, Bilik Latihan PEDi Pekan Asajaya
CATEGORIES:DEFAULT
END:VEVENT
BEGIN:VEVENT
DTSTART;TZID=UTC:20240308T080000
DTEND;TZID=UTC:20240308T170000
DTSTAMP:20260425T202516
CREATED:20240301T171640Z
LAST-MODIFIED:20240301T171640Z
UID:2240-1709884800-1709917200@pekanasajaya.nadi.my
SUMMARY:ASAS FOTOGRAFI
DESCRIPTION:
URL:https://pekanasajaya.nadi.my/event/asas-fotografi-3/
LOCATION:Bilik Latihan PEDi Pekan Asajaya\, Bilik Latihan PEDi Pekan Asajaya
CATEGORIES:DEFAULT
END:VEVENT
BEGIN:VEVENT
DTSTART;TZID=UTC:20240308T080000
DTEND;TZID=UTC:20240308T170000
DTSTAMP:20260425T202516
CREATED:20240301T171640Z
LAST-MODIFIED:20240301T171640Z
UID:2560-1709884800-1709917200@pekanasajaya.nadi.my
SUMMARY:ASAS FOTOGRAFI
DESCRIPTION:
URL:https://pekanasajaya.nadi.my/event/asas-fotografi-6/
LOCATION:Bilik Latihan PEDi Pekan Asajaya\, Bilik Latihan PEDi Pekan Asajaya
CATEGORIES:DEFAULT
END:VEVENT
BEGIN:VEVENT
DTSTART;TZID=UTC:20240309T080000
DTEND;TZID=UTC:20240309T170000
DTSTAMP:20260425T202516
CREATED:20240301T171701Z
LAST-MODIFIED:20240301T171701Z
UID:2561-1709971200-1710003600@pekanasajaya.nadi.my
SUMMARY:ASAS KEUSAHAWANAN
DESCRIPTION:
URL:https://pekanasajaya.nadi.my/event/asas-keusahawanan-59/
LOCATION:Bilik Latihan PEDi Pekan Asajaya\, Bilik Latihan PEDi Pekan Asajaya
CATEGORIES:DEFAULT
END:VEVENT
BEGIN:VEVENT
DTSTART;TZID=UTC:20240310T080000
DTEND;TZID=UTC:20240310T170000
DTSTAMP:20260425T202516
CREATED:20240301T172038Z
LAST-MODIFIED:20240301T172038Z
UID:2562-1710057600-1710090000@pekanasajaya.nadi.my
SUMMARY:ADVOKASI KLIK DENGAM BIJAK & KUIZ KAHOOT
DESCRIPTION:
URL:https://pekanasajaya.nadi.my/event/advokasi-klik-dengam-bijak-kuiz-kahoot/
LOCATION:Bilik Latihan PEDi Pekan Asajaya\, Bilik Latihan PEDi Pekan Asajaya
CATEGORIES:DEFAULT
END:VEVENT
BEGIN:VEVENT
DTSTART;TZID=UTC:20240315T080000
DTEND;TZID=UTC:20240315T170000
DTSTAMP:20260425T202516
CREATED:20240301T172059Z
LAST-MODIFIED:20240301T172059Z
UID:2563-1710489600-1710522000@pekanasajaya.nadi.my
SUMMARY:AKTIVITI STEM
DESCRIPTION:
URL:https://pekanasajaya.nadi.my/event/aktiviti-stem-3/
LOCATION:Bilik Latihan PEDi Pekan Asajaya\, Bilik Latihan PEDi Pekan Asajaya
CATEGORIES:DEFAULT
END:VEVENT
BEGIN:VEVENT
DTSTART;TZID=UTC:20240316T080000
DTEND;TZID=UTC:20240316T170000
DTSTAMP:20260425T202516
CREATED:20240301T172242Z
LAST-MODIFIED:20240301T172242Z
UID:2564-1710576000-1710608400@pekanasajaya.nadi.my
SUMMARY:CANVA ASAS RESUME
DESCRIPTION:
URL:https://pekanasajaya.nadi.my/event/canva-asas-resume/
LOCATION:Bilik Latihan PEDi Pekan Asajaya\, Bilik Latihan PEDi Pekan Asajaya
CATEGORIES:DEFAULT
END:VEVENT
BEGIN:VEVENT
DTSTART;TZID=UTC:20240317T080000
DTEND;TZID=UTC:20240317T170000
DTSTAMP:20260425T202516
CREATED:20240301T172257Z
LAST-MODIFIED:20240301T172257Z
UID:2565-1710662400-1710694800@pekanasajaya.nadi.my
SUMMARY:CANVA STIKER POSTER
DESCRIPTION:
URL:https://pekanasajaya.nadi.my/event/canva-stiker-poster/
LOCATION:Bilik Latihan PEDi Pekan Asajaya\, Bilik Latihan PEDi Pekan Asajaya
CATEGORIES:DEFAULT
END:VEVENT
BEGIN:VEVENT
DTSTART;TZID=UTC:20240322T080000
DTEND;TZID=UTC:20240322T170000
DTSTAMP:20260425T202516
CREATED:20240301T172327Z
LAST-MODIFIED:20240301T172327Z
UID:2566-1711094400-1711126800@pekanasajaya.nadi.my
SUMMARY:AKTIVITI IoT
DESCRIPTION:
URL:https://pekanasajaya.nadi.my/event/aktiviti-iot/
LOCATION:Bilik Latihan PEDi Pekan Asajaya\, Bilik Latihan PEDi Pekan Asajaya
CATEGORIES:DEFAULT
END:VEVENT
BEGIN:VEVENT
DTSTART;TZID=UTC:20240323T080000
DTEND;TZID=UTC:20240323T170000
DTSTAMP:20260425T202516
CREATED:20240301T172355Z
LAST-MODIFIED:20240301T172355Z
UID:2567-1711180800-1711213200@pekanasajaya.nadi.my
SUMMARY:ASAS KEUSAHAWANAN
DESCRIPTION:
URL:https://pekanasajaya.nadi.my/event/asas-keusahawanan-60/
LOCATION:Bilik Latihan PEDi Pekan Asajaya\, Bilik Latihan PEDi Pekan Asajaya
CATEGORIES:DEFAULT
END:VEVENT
BEGIN:VEVENT
DTSTART;TZID=UTC:20240324T080000
DTEND;TZID=UTC:20240324T170000
DTSTAMP:20260425T202516
CREATED:20240301T172426Z
LAST-MODIFIED:20240301T172426Z
UID:2568-1711267200-1711299600@pekanasajaya.nadi.my
SUMMARY:ASAS MICROSOFT OFFICE
DESCRIPTION:
URL:https://pekanasajaya.nadi.my/event/asas-microsoft-office-49/
LOCATION:Bilik Latihan PEDi Pekan Asajaya\, Bilik Latihan PEDi Pekan Asajaya
CATEGORIES:DEFAULT
END:VEVENT
END:VCALENDAR