BEGIN:VCALENDAR
VERSION:2.0
PRODID:-//NADI Pekan Asajaya - ECPv6.15.13.1//NONSGML v1.0//EN
CALSCALE:GREGORIAN
METHOD:PUBLISH
X-WR-CALNAME:NADI Pekan Asajaya
X-ORIGINAL-URL:https://pekanasajaya.nadi.my
X-WR-CALDESC:Events for NADI Pekan Asajaya
REFRESH-INTERVAL;VALUE=DURATION:PT1H
X-Robots-Tag:noindex
X-PUBLISHED-TTL:PT1H
BEGIN:VTIMEZONE
TZID:UTC
BEGIN:STANDARD
TZOFFSETFROM:+0000
TZOFFSETTO:+0000
TZNAME:UTC
DTSTART:20230101T000000
END:STANDARD
END:VTIMEZONE
BEGIN:VEVENT
DTSTART;TZID=UTC:20240404T080000
DTEND;TZID=UTC:20240404T170000
DTSTAMP:20260422T090734
CREATED:20240401T171625Z
LAST-MODIFIED:20240401T171625Z
UID:2570-1712217600-1712250000@pekanasajaya.nadi.my
SUMMARY:ADVOKASI KLIK DENGAN BIJAK & KAHOOT
DESCRIPTION:
URL:https://pekanasajaya.nadi.my/event/advokasi-klik-dengan-bijak-kahoot/
LOCATION:BILIK LATIHAN NADI PEKAN ASAJAYA\, BILIK LATIHAN NADI PEKAN ASAJAYA
CATEGORIES:DEFAULT
END:VEVENT
BEGIN:VEVENT
DTSTART;TZID=UTC:20240405T080000
DTEND;TZID=UTC:20240405T170000
DTSTAMP:20260422T090734
CREATED:20240401T171645Z
LAST-MODIFIED:20240401T171645Z
UID:2571-1712304000-1712336400@pekanasajaya.nadi.my
SUMMARY:E-PEMBELAJARAN
DESCRIPTION:
URL:https://pekanasajaya.nadi.my/event/e-pembelajaran-21/
LOCATION:BILIK LATIHAN NADI PEKAN ASAJAYA\, BILIK LATIHAN NADI PEKAN ASAJAYA
CATEGORIES:DEFAULT
END:VEVENT
BEGIN:VEVENT
DTSTART;TZID=UTC:20240406T080000
DTEND;TZID=UTC:20240406T170000
DTSTAMP:20260422T090734
CREATED:20240401T171702Z
LAST-MODIFIED:20240401T171702Z
UID:2572-1712390400-1712422800@pekanasajaya.nadi.my
SUMMARY:ASAS MICROSOFT OFFICE
DESCRIPTION:
URL:https://pekanasajaya.nadi.my/event/asas-microsoft-office-50/
LOCATION:BILIK LATIHAN NADI PEKAN ASAJAYA\, BILIK LATIHAN NADI PEKAN ASAJAYA
CATEGORIES:DEFAULT
END:VEVENT
BEGIN:VEVENT
DTSTART;TZID=UTC:20240407T080000
DTEND;TZID=UTC:20240407T170000
DTSTAMP:20260422T090734
CREATED:20240401T171724Z
LAST-MODIFIED:20240401T171724Z
UID:2573-1712476800-1712509200@pekanasajaya.nadi.my
SUMMARY:ASAS CANVA: POSTER & STIKER
DESCRIPTION:
URL:https://pekanasajaya.nadi.my/event/asas-canva-poster-stiker/
LOCATION:BILIK LATIHAN NADI PEKAN ASAJAYA\, BILIK LATIHAN NADI PEKAN ASAJAYA
CATEGORIES:DEFAULT
END:VEVENT
BEGIN:VEVENT
DTSTART;TZID=UTC:20240418T080000
DTEND;TZID=UTC:20240418T170000
DTSTAMP:20260422T090734
CREATED:20240401T171803Z
LAST-MODIFIED:20240401T171803Z
UID:2574-1713427200-1713459600@pekanasajaya.nadi.my
SUMMARY:ASAS MICROSOFT OFFICE
DESCRIPTION:
URL:https://pekanasajaya.nadi.my/event/asas-microsoft-office-51/
LOCATION:BILIK LATIHAN NADI PEKAN ASAJAYA\, BILIK LATIHAN NADI PEKAN ASAJAYA
CATEGORIES:DEFAULT
END:VEVENT
BEGIN:VEVENT
DTSTART;TZID=UTC:20240419T080000
DTEND;TZID=UTC:20240419T170000
DTSTAMP:20260422T090734
CREATED:20240401T171829Z
LAST-MODIFIED:20240401T171829Z
UID:2575-1713513600-1713546000@pekanasajaya.nadi.my
SUMMARY:AKTIVITI STEM & ADVOKASI KLIK DENGAN BIJAK
DESCRIPTION:
URL:https://pekanasajaya.nadi.my/event/aktiviti-stem-advokasi-klik-dengan-bijak/
LOCATION:BILIK LATIHAN NADI PEKAN ASAJAYA\, BILIK LATIHAN NADI PEKAN ASAJAYA
CATEGORIES:DEFAULT
END:VEVENT
BEGIN:VEVENT
DTSTART;TZID=UTC:20240420T080000
DTEND;TZID=UTC:20240420T170000
DTSTAMP:20260422T090734
CREATED:20240401T171848Z
LAST-MODIFIED:20240401T171848Z
UID:2576-1713600000-1713632400@pekanasajaya.nadi.my
SUMMARY:ASAS KEUSAHAWANAN
DESCRIPTION:
URL:https://pekanasajaya.nadi.my/event/asas-keusahawanan-61/
LOCATION:BILIK LATIHAN NADI PEKAN ASAJAYA\, BILIK LATIHAN NADI PEKAN ASAJAYA
CATEGORIES:DEFAULT
END:VEVENT
BEGIN:VEVENT
DTSTART;TZID=UTC:20240421T080000
DTEND;TZID=UTC:20240421T170000
DTSTAMP:20260422T090734
CREATED:20240401T171905Z
LAST-MODIFIED:20240401T171905Z
UID:2577-1713686400-1713718800@pekanasajaya.nadi.my
SUMMARY:ASAS KEUSAHAWANAN
DESCRIPTION:
URL:https://pekanasajaya.nadi.my/event/asas-keusahawanan-62/
LOCATION:BILIK LATIHAN NADI PEKAN ASAJAYA\, BILIK LATIHAN NADI PEKAN ASAJAYA
CATEGORIES:DEFAULT
END:VEVENT
BEGIN:VEVENT
DTSTART;TZID=UTC:20240425T080000
DTEND;TZID=UTC:20240425T170000
DTSTAMP:20260422T090734
CREATED:20240401T171934Z
LAST-MODIFIED:20240401T171934Z
UID:2578-1714032000-1714064400@pekanasajaya.nadi.my
SUMMARY:ASAS CANVA: RESUME
DESCRIPTION:
URL:https://pekanasajaya.nadi.my/event/asas-canva-resume/
LOCATION:BILIK LATIHAN NADI PEKAN ASAJAYA\, BILIK LATIHAN NADI PEKAN ASAJAYA
CATEGORIES:DEFAULT
END:VEVENT
BEGIN:VEVENT
DTSTART;TZID=UTC:20240426T080000
DTEND;TZID=UTC:20240426T170000
DTSTAMP:20260422T090734
CREATED:20240401T171953Z
LAST-MODIFIED:20240401T171953Z
UID:2579-1714118400-1714150800@pekanasajaya.nadi.my
SUMMARY:AKTIVITI STEM & IoT
DESCRIPTION:
URL:https://pekanasajaya.nadi.my/event/aktiviti-stem-iot-19/
LOCATION:BILIK LATIHAN NADI PEKAN ASAJAYA\, BILIK LATIHAN NADI PEKAN ASAJAYA
CATEGORIES:DEFAULT
END:VEVENT
BEGIN:VEVENT
DTSTART;TZID=UTC:20240427T080000
DTEND;TZID=UTC:20240427T170000
DTSTAMP:20260422T090734
CREATED:20240401T172013Z
LAST-MODIFIED:20240401T172013Z
UID:2580-1714204800-1714237200@pekanasajaya.nadi.my
SUMMARY:ASAS MICROSOFT OFFICE
DESCRIPTION:
URL:https://pekanasajaya.nadi.my/event/asas-microsoft-office-52/
LOCATION:BILIK LATIHAN NADI PEKAN ASAJAYA\, BILIK LATIHAN NADI PEKAN ASAJAYA
CATEGORIES:DEFAULT
END:VEVENT
BEGIN:VEVENT
DTSTART;TZID=UTC:20240428T080000
DTEND;TZID=UTC:20240428T170000
DTSTAMP:20260422T090734
CREATED:20240401T172029Z
LAST-MODIFIED:20240401T172029Z
UID:2581-1714291200-1714323600@pekanasajaya.nadi.my
SUMMARY:E-PEMBELAJARAN
DESCRIPTION:
URL:https://pekanasajaya.nadi.my/event/e-pembelajaran-22/
LOCATION:BILIK LATIHAN NADI PEKAN ASAJAYA\, BILIK LATIHAN NADI PEKAN ASAJAYA
CATEGORIES:DEFAULT
END:VEVENT
END:VCALENDAR