BEGIN:VCALENDAR
VERSION:2.0
PRODID:-//NADI Pekan Asajaya - ECPv6.15.13.1//NONSGML v1.0//EN
CALSCALE:GREGORIAN
METHOD:PUBLISH
X-WR-CALNAME:NADI Pekan Asajaya
X-ORIGINAL-URL:https://pekanasajaya.nadi.my
X-WR-CALDESC:Events for NADI Pekan Asajaya
REFRESH-INTERVAL;VALUE=DURATION:PT1H
X-Robots-Tag:noindex
X-PUBLISHED-TTL:PT1H
BEGIN:VTIMEZONE
TZID:UTC
BEGIN:STANDARD
TZOFFSETFROM:+0000
TZOFFSETTO:+0000
TZNAME:UTC
DTSTART:20230101T000000
END:STANDARD
END:VTIMEZONE
BEGIN:VEVENT
DTSTART;TZID=UTC:20240605T080000
DTEND;TZID=UTC:20240605T170000
DTSTAMP:20260421T205439
CREATED:20240603T171620Z
LAST-MODIFIED:20240603T171620Z
UID:2595-1717574400-1717606800@pekanasajaya.nadi.my
SUMMARY:KELAS MICROSOFT OFFICE
DESCRIPTION:
URL:https://pekanasajaya.nadi.my/event/kelas-microsoft-office-6/
LOCATION:BILIK LATIHAN NADI PEKAN ASAJAYA\, BILIK LATIHAN NADI PEKAN ASAJAYA
CATEGORIES:DEFAULT
END:VEVENT
BEGIN:VEVENT
DTSTART;TZID=UTC:20240606T080000
DTEND;TZID=UTC:20240606T170000
DTSTAMP:20260421T205439
CREATED:20240603T171641Z
LAST-MODIFIED:20240603T171641Z
UID:2596-1717660800-1717693200@pekanasajaya.nadi.my
SUMMARY:E-PEMBELAJARAN
DESCRIPTION:
URL:https://pekanasajaya.nadi.my/event/e-pembelajaran-23/
LOCATION:BILIK LATIHAN NADI PEKAN ASAJAYA\, BILIK LATIHAN NADI PEKAN ASAJAYA
CATEGORIES:DEFAULT
END:VEVENT
BEGIN:VEVENT
DTSTART;TZID=UTC:20240607T080000
DTEND;TZID=UTC:20240607T170000
DTSTAMP:20260421T205439
CREATED:20240603T171702Z
LAST-MODIFIED:20240603T171702Z
UID:2597-1717747200-1717779600@pekanasajaya.nadi.my
SUMMARY:KELAS MICROSOFT OFFICE
DESCRIPTION:
URL:https://pekanasajaya.nadi.my/event/kelas-microsoft-office-7/
LOCATION:BILIK LATIHAN NADI PEKAN ASAJAYA\, BILIK LATIHAN NADI PEKAN ASAJAYA
CATEGORIES:DEFAULT
END:VEVENT
BEGIN:VEVENT
DTSTART;TZID=UTC:20240608T080000
DTEND;TZID=UTC:20240608T170000
DTSTAMP:20260421T205439
CREATED:20240603T171718Z
LAST-MODIFIED:20240603T171718Z
UID:2598-1717833600-1717866000@pekanasajaya.nadi.my
SUMMARY:ASAS RESUME
DESCRIPTION:
URL:https://pekanasajaya.nadi.my/event/asas-resume/
LOCATION:BILIK LATIHAN NADI PEKAN ASAJAYA\, BILIK LATIHAN NADI PEKAN ASAJAYA
CATEGORIES:DEFAULT
END:VEVENT
BEGIN:VEVENT
DTSTART;TZID=UTC:20240609T080000
DTEND;TZID=UTC:20240609T170000
DTSTAMP:20260421T205439
CREATED:20240603T171742Z
LAST-MODIFIED:20240603T171742Z
UID:2599-1717920000-1717952400@pekanasajaya.nadi.my
SUMMARY:CANVA: POSTER & STIKER
DESCRIPTION:
URL:https://pekanasajaya.nadi.my/event/canva-poster-stiker/
LOCATION:BILIK LATIHAN NADI PEKAN ASAJAYA\, BILIK LATIHAN NADI PEKAN ASAJAYA
CATEGORIES:DEFAULT
END:VEVENT
BEGIN:VEVENT
DTSTART;TZID=UTC:20240614T080000
DTEND;TZID=UTC:20240614T170000
DTSTAMP:20260421T205439
CREATED:20240603T171800Z
LAST-MODIFIED:20240603T171800Z
UID:2600-1718352000-1718384400@pekanasajaya.nadi.my
SUMMARY:AKTIVITI STEM
DESCRIPTION:
URL:https://pekanasajaya.nadi.my/event/aktiviti-stem-5/
LOCATION:BILIK LATIHAN NADI PEKAN ASAJAYA\, BILIK LATIHAN NADI PEKAN ASAJAYA
CATEGORIES:DEFAULT
END:VEVENT
BEGIN:VEVENT
DTSTART;TZID=UTC:20240615T080000
DTEND;TZID=UTC:20240615T170000
DTSTAMP:20260421T205439
CREATED:20240603T171822Z
LAST-MODIFIED:20240603T171822Z
UID:2601-1718438400-1718470800@pekanasajaya.nadi.my
SUMMARY:ASAS FOTOGRAFI
DESCRIPTION:
URL:https://pekanasajaya.nadi.my/event/asas-fotografi-7/
LOCATION:BILIK LATIHAN NADI PEKAN ASAJAYA\, BILIK LATIHAN NADI PEKAN ASAJAYA
CATEGORIES:DEFAULT
END:VEVENT
BEGIN:VEVENT
DTSTART;TZID=UTC:20240616T080000
DTEND;TZID=UTC:20240616T170000
DTSTAMP:20260421T205439
CREATED:20240603T171940Z
LAST-MODIFIED:20240603T171940Z
UID:2602-1718524800-1718557200@pekanasajaya.nadi.my
SUMMARY:AKTIVITI IoT
DESCRIPTION:
URL:https://pekanasajaya.nadi.my/event/aktiviti-iot-3/
LOCATION:BILIK LATIHAN NADI PEKAN ASAJAYA\, BILIK LATIHAN NADI PEKAN ASAJAYA
CATEGORIES:DEFAULT
END:VEVENT
BEGIN:VEVENT
DTSTART;TZID=UTC:20240621T080000
DTEND;TZID=UTC:20240621T170000
DTSTAMP:20260421T205439
CREATED:20240603T172152Z
LAST-MODIFIED:20240603T172152Z
UID:2603-1718956800-1718989200@pekanasajaya.nadi.my
SUMMARY:AKTIVITI STEM
DESCRIPTION:
URL:https://pekanasajaya.nadi.my/event/aktiviti-stem-6/
LOCATION:BILIK LATIHAN NADI PEKAN ASAJAYA\, BILIK LATIHAN NADI PEKAN ASAJAYA
CATEGORIES:DEFAULT
END:VEVENT
BEGIN:VEVENT
DTSTART;TZID=UTC:20240622T080000
DTEND;TZID=UTC:20240622T170000
DTSTAMP:20260421T205439
CREATED:20240603T172211Z
LAST-MODIFIED:20240603T172211Z
UID:2604-1719043200-1719075600@pekanasajaya.nadi.my
SUMMARY:ASAS KEUSAHAWANAN
DESCRIPTION:
URL:https://pekanasajaya.nadi.my/event/asas-keusahawanan-65/
LOCATION:BILIK LATIHAN NADI PEKAN ASAJAYA\, BILIK LATIHAN NADI PEKAN ASAJAYA
CATEGORIES:DEFAULT
END:VEVENT
BEGIN:VEVENT
DTSTART;TZID=UTC:20240623T080000
DTEND;TZID=UTC:20240623T170000
DTSTAMP:20260421T205439
CREATED:20240603T172231Z
LAST-MODIFIED:20240603T172231Z
UID:2605-1719129600-1719162000@pekanasajaya.nadi.my
SUMMARY:ASAS KEUSAHAWANAN
DESCRIPTION:
URL:https://pekanasajaya.nadi.my/event/asas-keusahawanan-66/
LOCATION:BILIK LATIHAN NADI PEKAN ASAJAYA\, BILIK LATIHAN NADI PEKAN ASAJAYA
CATEGORIES:DEFAULT
END:VEVENT
BEGIN:VEVENT
DTSTART;TZID=UTC:20240628T080000
DTEND;TZID=UTC:20240628T170000
DTSTAMP:20260421T205439
CREATED:20240603T172248Z
LAST-MODIFIED:20240603T172248Z
UID:2606-1719561600-1719594000@pekanasajaya.nadi.my
SUMMARY:E-PEMBELAJARAN
DESCRIPTION:
URL:https://pekanasajaya.nadi.my/event/e-pembelajaran-24/
LOCATION:BILIK LATIHAN NADI PEKAN ASAJAYA\, BILIK LATIHAN NADI PEKAN ASAJAYA
CATEGORIES:DEFAULT
END:VEVENT
BEGIN:VEVENT
DTSTART;TZID=UTC:20240629T080000
DTEND;TZID=UTC:20240629T170000
DTSTAMP:20260421T205439
CREATED:20240603T172304Z
LAST-MODIFIED:20240603T172304Z
UID:2607-1719648000-1719680400@pekanasajaya.nadi.my
SUMMARY:ASAS MICROSOFT OFFICE
DESCRIPTION:
URL:https://pekanasajaya.nadi.my/event/asas-microsoft-office-55/
LOCATION:BILIK LATIHAN NADI PEKAN ASAJAYA\, BILIK LATIHAN NADI PEKAN ASAJAYA
CATEGORIES:DEFAULT
END:VEVENT
END:VCALENDAR