BEGIN:VCALENDAR
VERSION:2.0
PRODID:-//NADI Pekan Asajaya - ECPv6.15.13.1//NONSGML v1.0//EN
CALSCALE:GREGORIAN
METHOD:PUBLISH
X-WR-CALNAME:NADI Pekan Asajaya
X-ORIGINAL-URL:https://pekanasajaya.nadi.my
X-WR-CALDESC:Events for NADI Pekan Asajaya
REFRESH-INTERVAL;VALUE=DURATION:PT1H
X-Robots-Tag:noindex
X-PUBLISHED-TTL:PT1H
BEGIN:VTIMEZONE
TZID:UTC
BEGIN:STANDARD
TZOFFSETFROM:+0000
TZOFFSETTO:+0000
TZNAME:UTC
DTSTART:20230101T000000
END:STANDARD
END:VTIMEZONE
BEGIN:VEVENT
DTSTART;TZID=UTC:20240808T080000
DTEND;TZID=UTC:20240808T170000
DTSTAMP:20260420T224352
CREATED:20240804T162537Z
LAST-MODIFIED:20240804T162537Z
UID:2621-1723104000-1723136400@pekanasajaya.nadi.my
SUMMARY:ASAS MICROSOFT OFFICE
DESCRIPTION:
URL:https://pekanasajaya.nadi.my/event/asas-microsoft-office-59/
LOCATION:BILIK LATIHAN NADI PEKAN ASAJAYA\, BILIK LATIHAN NADI PEKAN ASAJAYA
CATEGORIES:DEFAULT
END:VEVENT
BEGIN:VEVENT
DTSTART;TZID=UTC:20240809T080000
DTEND;TZID=UTC:20240809T170000
DTSTAMP:20260420T224352
CREATED:20240804T163058Z
LAST-MODIFIED:20240804T163058Z
UID:2622-1723190400-1723222800@pekanasajaya.nadi.my
SUMMARY:AKTIVITI STEM & ADVOKASI KLIK DENGAN BIJAK
DESCRIPTION:
URL:https://pekanasajaya.nadi.my/event/aktiviti-stem-advokasi-klik-dengan-bijak-3/
LOCATION:BILIK LATIHAN NADI PEKAN ASAJAYA\, BILIK LATIHAN NADI PEKAN ASAJAYA
CATEGORIES:DEFAULT
END:VEVENT
BEGIN:VEVENT
DTSTART;TZID=UTC:20240810T080000
DTEND;TZID=UTC:20240810T170000
DTSTAMP:20260420T224352
CREATED:20240804T163210Z
LAST-MODIFIED:20240804T163210Z
UID:2623-1723276800-1723309200@pekanasajaya.nadi.my
SUMMARY:ASAS MICROSOFT OFFICE
DESCRIPTION:
URL:https://pekanasajaya.nadi.my/event/asas-microsoft-office-60/
LOCATION:BILIK LATIHAN NADI PEKAN ASAJAYA\, BILIK LATIHAN NADI PEKAN ASAJAYA
CATEGORIES:DEFAULT
END:VEVENT
BEGIN:VEVENT
DTSTART;TZID=UTC:20240811T080000
DTEND;TZID=UTC:20240811T170000
DTSTAMP:20260420T224352
CREATED:20240804T163311Z
LAST-MODIFIED:20240804T163311Z
UID:2624-1723363200-1723395600@pekanasajaya.nadi.my
SUMMARY:CANVA: POSTER & STIKER
DESCRIPTION:
URL:https://pekanasajaya.nadi.my/event/canva-poster-stiker-2/
LOCATION:BILIK LATIHAN NADI PEKAN ASAJAYA\, BILIK LATIHAN NADI PEKAN ASAJAYA
CATEGORIES:DEFAULT
END:VEVENT
BEGIN:VEVENT
DTSTART;TZID=UTC:20240816T080000
DTEND;TZID=UTC:20240816T170000
DTSTAMP:20260420T224352
CREATED:20240804T163422Z
LAST-MODIFIED:20240804T163422Z
UID:2625-1723795200-1723827600@pekanasajaya.nadi.my
SUMMARY:AKTIVITI STEM & ADVOKASI KLIK DENGAN BIJAK
DESCRIPTION:
URL:https://pekanasajaya.nadi.my/event/aktiviti-stem-advokasi-klik-dengan-bijak-4/
LOCATION:BILIK LATIHAN NADI PEKAN ASAJAYA\, BILIK LATIHAN NADI PEKAN ASAJAYA
CATEGORIES:DEFAULT
END:VEVENT
BEGIN:VEVENT
DTSTART;TZID=UTC:20240817T080000
DTEND;TZID=UTC:20240817T170000
DTSTAMP:20260420T224352
CREATED:20240804T163445Z
LAST-MODIFIED:20240804T163445Z
UID:2626-1723881600-1723914000@pekanasajaya.nadi.my
SUMMARY:ASAS KEUSAHAWANAN
DESCRIPTION:
URL:https://pekanasajaya.nadi.my/event/asas-keusahawanan-69/
CATEGORIES:DEFAULT
END:VEVENT
BEGIN:VEVENT
DTSTART;TZID=UTC:20240818T080000
DTEND;TZID=UTC:20240818T170000
DTSTAMP:20260420T224352
CREATED:20240812T171145Z
LAST-MODIFIED:20240812T171145Z
UID:2627-1723968000-1724000400@pekanasajaya.nadi.my
SUMMARY:ASAS KEUSAHAWANAN
DESCRIPTION:
URL:https://pekanasajaya.nadi.my/event/asas-keusahawanan-70/
LOCATION:BILIK LATIHAN NADI PEKAN ASAJAYA\, BILIK LATIHAN NADI PEKAN ASAJAYA
CATEGORIES:DEFAULT
END:VEVENT
BEGIN:VEVENT
DTSTART;TZID=UTC:20240823T080000
DTEND;TZID=UTC:20240823T170000
DTSTAMP:20260420T224352
CREATED:20240812T171205Z
LAST-MODIFIED:20240812T171205Z
UID:2628-1724400000-1724432400@pekanasajaya.nadi.my
SUMMARY:E-PEMBELAJARAN
DESCRIPTION:
URL:https://pekanasajaya.nadi.my/event/e-pembelajaran-26/
LOCATION:BILIK LATIHAN NADI PEKAN ASAJAYA\, BILIK LATIHAN NADI PEKAN ASAJAYA
CATEGORIES:DEFAULT
END:VEVENT
BEGIN:VEVENT
DTSTART;TZID=UTC:20240824T080000
DTEND;TZID=UTC:20240824T170000
DTSTAMP:20260420T224352
CREATED:20240812T171230Z
LAST-MODIFIED:20240812T171230Z
UID:2629-1724486400-1724518800@pekanasajaya.nadi.my
SUMMARY:KELAS RESUME
DESCRIPTION:
URL:https://pekanasajaya.nadi.my/event/kelas-resume/
LOCATION:BILIK LATIHAN NADI PEKAN ASAJAYA\, BILIK LATIHAN NADI PEKAN ASAJAYA
CATEGORIES:DEFAULT
END:VEVENT
BEGIN:VEVENT
DTSTART;TZID=UTC:20240825T080000
DTEND;TZID=UTC:20240825T170000
DTSTAMP:20260420T224352
CREATED:20240812T171300Z
LAST-MODIFIED:20240812T171300Z
UID:2630-1724572800-1724605200@pekanasajaya.nadi.my
SUMMARY:E-PEMBELAJARAN & QUIZIZ
DESCRIPTION:
URL:https://pekanasajaya.nadi.my/event/e-pembelajaran-quiziz/
LOCATION:BILIK LATIHAN NADI PEKAN ASAJAYA\, BILIK LATIHAN NADI PEKAN ASAJAYA
CATEGORIES:DEFAULT
END:VEVENT
END:VCALENDAR