BEGIN:VCALENDAR
VERSION:2.0
PRODID:-//NADI Pekan Asajaya - ECPv6.15.13.1//NONSGML v1.0//EN
CALSCALE:GREGORIAN
METHOD:PUBLISH
X-WR-CALNAME:NADI Pekan Asajaya
X-ORIGINAL-URL:https://pekanasajaya.nadi.my
X-WR-CALDESC:Events for NADI Pekan Asajaya
REFRESH-INTERVAL;VALUE=DURATION:PT1H
X-Robots-Tag:noindex
X-PUBLISHED-TTL:PT1H
BEGIN:VTIMEZONE
TZID:UTC
BEGIN:STANDARD
TZOFFSETFROM:+0000
TZOFFSETTO:+0000
TZNAME:UTC
DTSTART:20230101T000000
END:STANDARD
END:VTIMEZONE
BEGIN:VEVENT
DTSTART;TZID=UTC:20241004T080000
DTEND;TZID=UTC:20241004T170000
DTSTAMP:20260421T225835
CREATED:20240930T230721Z
LAST-MODIFIED:20240930T230721Z
UID:2824-1728028800-1728061200@pekanasajaya.nadi.my
SUMMARY:E-PEMBELAJARAN
DESCRIPTION:
URL:https://pekanasajaya.nadi.my/event/e-pembelajaran-30/
LOCATION:BILIK LATIHAN NADI PEKAN ASAJAYA\, BILIK LATIHAN NADI PEKAN ASAJAYA
CATEGORIES:DEFAULT
END:VEVENT
BEGIN:VEVENT
DTSTART;TZID=UTC:20241005T080000
DTEND;TZID=UTC:20241005T170000
DTSTAMP:20260421T225835
CREATED:20240930T230748Z
LAST-MODIFIED:20240930T230748Z
UID:2825-1728115200-1728147600@pekanasajaya.nadi.my
SUMMARY:ASAS CANVA (POSTER & STIKER)
DESCRIPTION:
URL:https://pekanasajaya.nadi.my/event/asas-canva-poster-stiker-2/
LOCATION:BILIK LATIHAN NADI PEKAN ASAJAYA\, BILIK LATIHAN NADI PEKAN ASAJAYA
CATEGORIES:DEFAULT
END:VEVENT
BEGIN:VEVENT
DTSTART;TZID=UTC:20241006T080000
DTEND;TZID=UTC:20241006T170000
DTSTAMP:20260421T225835
CREATED:20240930T230808Z
LAST-MODIFIED:20240930T230808Z
UID:2826-1728201600-1728234000@pekanasajaya.nadi.my
SUMMARY:KELAS MICROSOFT OFFICE
DESCRIPTION:
URL:https://pekanasajaya.nadi.my/event/kelas-microsoft-office-8/
LOCATION:BILIK LATIHAN NADI PEKAN ASAJAYA\, BILIK LATIHAN NADI PEKAN ASAJAYA
CATEGORIES:DEFAULT
END:VEVENT
BEGIN:VEVENT
DTSTART;TZID=UTC:20241010T080000
DTEND;TZID=UTC:20241010T170000
DTSTAMP:20260421T225835
CREATED:20240930T230824Z
LAST-MODIFIED:20240930T230824Z
UID:2827-1728547200-1728579600@pekanasajaya.nadi.my
SUMMARY:KELAS MICROSOFT OFFICE
DESCRIPTION:
URL:https://pekanasajaya.nadi.my/event/kelas-microsoft-office-9/
LOCATION:BILIK LATIHAN NADI PEKAN ASAJAYA\, BILIK LATIHAN NADI PEKAN ASAJAYA
CATEGORIES:DEFAULT
END:VEVENT
BEGIN:VEVENT
DTSTART;TZID=UTC:20241011T080000
DTEND;TZID=UTC:20241011T170000
DTSTAMP:20260421T225835
CREATED:20240930T230847Z
LAST-MODIFIED:20240930T230847Z
UID:2828-1728633600-1728666000@pekanasajaya.nadi.my
SUMMARY:AKTIVITI STEM & KDB
DESCRIPTION:
URL:https://pekanasajaya.nadi.my/event/aktiviti-stem-kdb/
LOCATION:BILIK LATIHAN NADI PEKAN ASAJAYA\, BILIK LATIHAN NADI PEKAN ASAJAYA
CATEGORIES:DEFAULT
END:VEVENT
BEGIN:VEVENT
DTSTART;TZID=UTC:20241012T080000
DTEND;TZID=UTC:20241012T170000
DTSTAMP:20260421T225835
CREATED:20240930T230906Z
LAST-MODIFIED:20240930T230906Z
UID:2829-1728720000-1728752400@pekanasajaya.nadi.my
SUMMARY:ASAS CANVA (RESUME)
DESCRIPTION:
URL:https://pekanasajaya.nadi.my/event/asas-canva-resume-2/
LOCATION:BILIK LATIHAN NADI PEKAN ASAJAYA\, BILIK LATIHAN NADI PEKAN ASAJAYA
CATEGORIES:DEFAULT
END:VEVENT
BEGIN:VEVENT
DTSTART;TZID=UTC:20241013T080000
DTEND;TZID=UTC:20241013T170000
DTSTAMP:20260421T225835
CREATED:20240930T230935Z
LAST-MODIFIED:20240930T230935Z
UID:2830-1728806400-1728838800@pekanasajaya.nadi.my
SUMMARY:E-PEMBELAJARAN
DESCRIPTION:
URL:https://pekanasajaya.nadi.my/event/e-pembelajaran-31/
LOCATION:BILIK LATIHAN NADI PEKAN ASAJAYA\, BILIK LATIHAN NADI PEKAN ASAJAYA
CATEGORIES:DEFAULT
END:VEVENT
BEGIN:VEVENT
DTSTART;TZID=UTC:20241018T080000
DTEND;TZID=UTC:20241018T170000
DTSTAMP:20260421T225835
CREATED:20240930T230958Z
LAST-MODIFIED:20240930T230958Z
UID:2831-1729238400-1729270800@pekanasajaya.nadi.my
SUMMARY:AKTIVITI STEM & KDB
DESCRIPTION:
URL:https://pekanasajaya.nadi.my/event/aktiviti-stem-kdb-2/
LOCATION:BILIK LATIHAN NADI PEKAN ASAJAYA\, BILIK LATIHAN NADI PEKAN ASAJAYA
CATEGORIES:DEFAULT
END:VEVENT
BEGIN:VEVENT
DTSTART;TZID=UTC:20241019T080000
DTEND;TZID=UTC:20241019T170000
DTSTAMP:20260421T225835
CREATED:20240930T231016Z
LAST-MODIFIED:20240930T231016Z
UID:2832-1729324800-1729357200@pekanasajaya.nadi.my
SUMMARY:ASAS KEUSAHAWANAN
DESCRIPTION:
URL:https://pekanasajaya.nadi.my/event/asas-keusahawanan-74/
LOCATION:BILIK LATIHAN NADI PEKAN ASAJAYA\, BILIK LATIHAN NADI PEKAN ASAJAYA
CATEGORIES:DEFAULT
END:VEVENT
BEGIN:VEVENT
DTSTART;TZID=UTC:20241020T080000
DTEND;TZID=UTC:20241020T170000
DTSTAMP:20260421T225835
CREATED:20240930T231034Z
LAST-MODIFIED:20240930T231034Z
UID:2833-1729411200-1729443600@pekanasajaya.nadi.my
SUMMARY:KELAS MICROSOFT OFFICE
DESCRIPTION:
URL:https://pekanasajaya.nadi.my/event/kelas-microsoft-office-10/
LOCATION:BILIK LATIHAN NADI PEKAN ASAJAYA\, BILIK LATIHAN NADI PEKAN ASAJAYA
CATEGORIES:DEFAULT
END:VEVENT
END:VCALENDAR